BEGIN:VCALENDAR
VERSION:2.0
PRODID:-//Squarespace Inc/Squarespace 6//v6//EN
BEGIN:VEVENT
UID:5f875e253776ff763856d258@squarespace.com
DTSTAMP:20201112T010236Z
DTSTART:20201118T140000Z
DTEND:20201118T220000Z
SUMMARY:Championing Change Conference 2020 
END:VEVENT
END:VCALENDAR
