BEGIN:VCALENDAR
VERSION:2.0
PRODID:-//Squarespace Inc/Squarespace 6//v6//EN
BEGIN:VEVENT
UID:5fac87a64aff1f2f85cb1730@squarespace.com
DTSTAMP:20201206T215021Z
DTSTART:20210122T140000Z
DTEND:20210124T220000Z
SUMMARY:EnSoul Yoga &amp\; Wellness Retreat
END:VEVENT
END:VCALENDAR
